BEGIN:VCALENDAR
VERSION:2.0
PRODID:icalendar-ruby
CALSCALE:GREGORIAN
METHOD:PUBLISH
BEGIN:VTIMEZONE
TZID:Australia/Sydney
BEGIN:DAYLIGHT
DTSTART:20261004T030000
TZOFFSETFROM:+1000
TZOFFSETTO:+1100
RRULE:FREQ=YEARLY;BYDAY=1SU;BYMONTH=10
TZNAME:AEDT
END:DAYLIGHT
BEGIN:STANDARD
DTSTART:20260405T020000
TZOFFSETFROM:+1100
TZOFFSETTO:+1000
RRULE:FREQ=YEARLY;BYDAY=1SU;BYMONTH=4
TZNAME:AEST
END:STANDARD
END:VTIMEZONE
BEGIN:VEVENT
DTSTAMP:20260426T013417Z
UID:inspection_3013254
DTSTART;TZID=Australia/Sydney:20260501T111500
DTEND;TZID=Australia/Sydney:20260501T113000
CLASS:PUBLIC
CREATED:20260425T095627
DESCRIPTION: 
LAST-MODIFIED:20260425T095934
LOCATION:17 Mundowie Place\, CLAREMONT MEADOWS NSW 2747\, Australia
SUMMARY:17 Mundowie Place\,  Inspection
URL;VALUE=URI:http://www.domainerealestate.com.au/
END:VEVENT
END:VCALENDAR
